0.500000000000000
0.000000000000000
0.000000000000000
-0.500000000000000
177000.250000000000000
901999.750000000000000
