0.500000000000000
0.000000000000000
0.000000000000000
-0.500000000000000
173000.250000000000000
905999.750000000000000
