!table
!version 300
!charset WindowsLatin1

Definition Table
  File "177894.sid"
  Type "RASTER"
  (173000.25,897999.75) (0,0) Label "Pt 1",
  (177000.25,897999.75) (8000,0) Label "Pt 2",
  (177000.25,893999.75) (8000,8000) Label "Pt 3",
  (173000.25,893999.75) (0,8000) Label "Pt 4"
  CoordSys Earth Projection 3, 74, "m", -71.5, 41, 41.7166666667, 42.6833333333, 200000, 750000
  Units "m"
